BEGIN:VCALENDAR
VERSION:2.0
PRODID:-//SABEL Schulen Nürnberg - ECPv6.15.20//NONSGML v1.0//EN
CALSCALE:GREGORIAN
METHOD:PUBLISH
X-WR-CALNAME:SABEL Schulen Nürnberg
X-ORIGINAL-URL:https://nuernberg.sabel.com
X-WR-CALDESC:Veranstaltungen für SABEL Schulen Nürnberg
REFRESH-INTERVAL;VALUE=DURATION:PT1H
X-Robots-Tag:noindex
X-PUBLISHED-TTL:PT1H
BEGIN:VTIMEZONE
TZID:Europe/Berlin
BEGIN:DAYLIGHT
TZOFFSETFROM:+0100
TZOFFSETTO:+0200
TZNAME:CEST
DTSTART:20220327T010000
END:DAYLIGHT
BEGIN:STANDARD
TZOFFSETFROM:+0200
TZOFFSETTO:+0100
TZNAME:CET
DTSTART:20221030T010000
END:STANDARD
BEGIN:DAYLIGHT
TZOFFSETFROM:+0100
TZOFFSETTO:+0200
TZNAME:CEST
DTSTART:20230326T010000
END:DAYLIGHT
BEGIN:STANDARD
TZOFFSETFROM:+0200
TZOFFSETTO:+0100
TZNAME:CET
DTSTART:20231029T010000
END:STANDARD
BEGIN:DAYLIGHT
TZOFFSETFROM:+0100
TZOFFSETTO:+0200
TZNAME:CEST
DTSTART:20240331T010000
END:DAYLIGHT
BEGIN:STANDARD
TZOFFSETFROM:+0200
TZOFFSETTO:+0100
TZNAME:CET
DTSTART:20241027T010000
END:STANDARD
END:VTIMEZONE
BEGIN:VEVENT
DTSTART;TZID=Europe/Berlin:20231123T180000
DTEND;TZID=Europe/Berlin:20231123T190000
DTSTAMP:20260422T222259
CREATED:20231009T060241Z
LAST-MODIFIED:20231012T100405Z
UID:6868-1700762400-1700766000@nuernberg.sabel.com
SUMMARY:Online-Infoabend der SABEL Wirtschaftsschule
DESCRIPTION:Online-Infoabend der SABEL Wirtschaftsschule am 23.11.2023\nNutzen Sie unseren Online-Infoabend um mehr über unsere Wirtschaftsschule zu erfahren und konkrete Fragen an Herrn Charisteas zu stellen. \nDer Infoabend findet über MS Teams statt. Bitte melden Sie sich per E-Mail (aggelos.charisteas@sabel.com) bei uns an. \nWir freuen uns auf Sie!
URL:https://nuernberg.sabel.com/veranstaltung/infoabend-der-sabel-wirtschaftsschule-nov2023/
CATEGORIES:Infoabende,Infoabende Wirtschaftsschule
END:VEVENT
BEGIN:VEVENT
DTSTART;TZID=Europe/Berlin:20231123T180000
DTEND;TZID=Europe/Berlin:20231123T190000
DTSTAMP:20260422T222259
CREATED:20231027T134410Z
LAST-MODIFIED:20231109T101007Z
UID:7057-1700762400-1700766000@nuernberg.sabel.com
SUMMARY:Infoabend der SABEL Fachoberschule Nov 23
DESCRIPTION:Online-Infoabend der SABEL Fachoberschule am 23. November 2023\nNutzen Sie unseren Online-Infoabend um mehr über unsere Fachoberschule zu erfahren und konkrete Fragen an Herrn Ehlers zu stellen. \nMelden Sie sich am besten per E-Mail (marcus.ehlers@sabel.com) bei uns an!\nDie Veranstaltung findet online per MS Teams statt. \nWir freuen uns auf Sie!
URL:https://nuernberg.sabel.com/veranstaltung/infoabend-der-sabel-fachoberschule-nov-23/
CATEGORIES:Infoabende,Infoabende Fachoberschule
END:VEVENT
END:VCALENDAR